BEGIN:VCALENDAR
VERSION:2.0
PRODID:-//https://www.conferentiecontactcalvijn.nl///NONSGML kigkonsult.se iCalcreator 2.10.15//
METHOD:PUBLISH
BEGIN:VEVENT
UID:20260421T102120UTC-3266DzzKZb@https://www.conferentiecontactcalvijn.nl/
DTSTAMP:20260421T102120Z
DESCRIPTION:\n14.00 uur Ontvangst met koffie/thee met iets lekkers. 14.30 u
 ur Opening van het programma. Na de opening zal mw. Jannie van Rijn een le
 zing voor ons verzorgen over Corrie ten Boom.\nVoor het gebruiken van het 
 buffet is er ruimte voor een wandeling\, musiceren\, zingen en onderlinge 
 ontmoeting.\nNa het buffet sluiten we de avond met elkaar af.\nTot ongevee
 r 21.30 uur is er nog\, onder het genot van een hapje en drankje\, gelegen
 heid om elkaar te ontmoeten. https://www.conferentiecontactcalvijn.nl/inde
 x.php/component/rseventspro/evenement/117-corrie-ten-boom?Itemid=2882
DTSTART:20240316T133000Z
DTEND:20240316T210000Z
LOCATION:Oud Wittenoord (Wittenoordseweg 13\, 3927CE\, Renswoude)
SUMMARY:Corrie ten Boom
URL:https://www.conferentiecontactcalvijn.nl/index.php/component/rseventspr
 o/evenement/117-corrie-ten-boom?Itemid=2882
END:VEVENT
END:VCALENDAR
